BEGIN:VCALENDAR
VERSION:2.0
PRODID:-//Library Market//iCal Export//EN
BEGIN:VEVENT
SUMMARY:Wriggle into Vermicomposting
UID:14352
DTSTAMP:20260422T224900Z
DTSTART:20251217T190000Z
DTEND:20251217T200000Z
LOCATION:Byron Public Library District, 100 S Washington St., Byron, IL 61
 010, United States
ROOM: Meeting Room
DESCRIPTION:Turn those kitchen scraps into nutrient rich gold for your hou
 seplants and garden! Join Illinois extension educator Bruce Black for a fu
 n and informative demonstration on how to create your very own vermicompos
 ting system. Your plants will thank you for it!
URL:https://www.byronlibrary.org/event/wriggle-vermicomposting-14352
END:VEVENT
END:VCALENDAR
