BEGIN:VCALENDAR
VERSION:2.0
PRODID:-//Library Market//iCal Export//EN
BEGIN:VEVENT
SUMMARY:Chunky Yarn Wreath Kit
UID:14353
DTSTAMP:20260423T001900Z
DTSTART:20251114T150000Z
DTEND:20251114T230000Z
LOCATION:Byron Public Library District, 100 S Washington St., Byron, IL 61
 010, United States
ROOM: Chunky Yarn Wreath Kit
DESCRIPTION:Add some cozy to your winter decor with this chunky yarn wreat
 h kit! This project is great for beginners and pros alike with all materia
 ls included as well as a photo tutorial! Our DIY on the Fly kit does not r
 equire registration and will be available on a first come, first served ba
 sis. 
URL:https://www.byronlibrary.org/event/chunky-yarn-wreath-kit-14353
END:VEVENT
END:VCALENDAR
