BEGIN:VCALENDAR
VERSION:2.0
PRODID:-//Library Market//iCal Export//EN
BEGIN:VEVENT
SUMMARY:Library Director Meet &amp; Greet
UID:14366
DTSTAMP:20260423T032400Z
DTSTART:20250923T223000Z
DTEND:20250924T003000Z
LOCATION:Byron Public Library District, 100 S Washington St., Byron, IL 61
 010, United States
ROOM: Lobby
DESCRIPTION:Drop in to meet the library&#039;s new director-Jason Shirley.
  Refreshments will be served.
URL:https://www.byronlibrary.org/event/library-director-meet-greet-14366
END:VEVENT
END:VCALENDAR
