BEGIN:VCALENDAR
VERSION:2.0
PRODID:-//Library Market//iCal Export//EN
BEGIN:VEVENT
SUMMARY:&quot;Where&#039;s Baby?&quot; StoryWalkÂ®-Heritage Farm
UID:14452
DTSTAMP:20260423T033200Z
DTSTART:20250822T050000Z
DTEND:20251026T050000Z
LOCATION:Heritage Farm Museum, 8059 N. River Road, Byron, IL 61010, United
  States
ROOM: Byron Forest Preserve: Heritage Farm
DESCRIPTION:Current book: &quot;Where&#039;s Baby?&quot; by Anne Hunter. Â
  Papa Fox is looking for Baby Fox, who is just out of his sight ... but no
 t ours! Â Readers will delight in spotting the little fox on every page as
  Papa wanders the forest, encountering other animals all along the way, bu
 t never quite able to spot his own baby.Â 
URL:https://www.byronlibrary.org/event/wheres-baby-storywalkr-heritage-far
 m-14452
END:VEVENT
END:VCALENDAR
