BEGIN:VCALENDAR
VERSION:2.0
PRODID:-//Library Market//iCal Export//EN
BEGIN:VEVENT
SUMMARY:&quot;Fox and the Jumping Contest&quot; StoryWalk®-Jarrett Prairi
 e Center
UID:14453
DTSTAMP:20260423T033800Z
DTSTART:20250822T050000Z
DTEND:20251026T050000Z
LOCATION:Byron Forest Preserve Jarrett Prairie Center, 7993 North River Ro
 ad, Byron, IL 61010, United States
ROOM: Byron Forest Preserve: Indigo Trail StoryWalk
DESCRIPTION:Current book: &quot;Fox and the Jumping Contest&quot; by Corey
  Tabor. Fox really, really wants to win the jumping contest. He knows just
  where he&#039;ll put that first-place trophy. The only problem-Fox is not
  a very good jumper. But he is a very good schemer. . . .The irrepressible
  fox (sort of) wins and (sort of) gets his comeuppance in this hilarious m
 odern-day trickster tale
URL:https://www.byronlibrary.org/event/fox-and-jumping-contest-storywalkr-
 jarrett-prairie-center-14453
END:VEVENT
END:VCALENDAR
