BEGIN:VCALENDAR
VERSION:2.0
PRODID:-//Library Market//iCal Export//EN
BEGIN:VEVENT
SUMMARY:Fancy Fold Christmas Cards
UID:14505
DTSTAMP:20260423T001900Z
DTSTART:20251110T183000Z
DTEND:20251110T203000Z
LOCATION:Byron Public Library District, 100 S Washington St., Byron, IL 61
 010, United States
ROOM: Creative Studio
DESCRIPTION:Make someone&#039;s Christmas extra special with these fancy f
 old Christmas cards. You&#039;ll make a gatefold card with belly band, a p
 op-out card, and a z-fold pop-up block card. 
URL:https://www.byronlibrary.org/event/fancy-fold-christmas-cards-14505
END:VEVENT
END:VCALENDAR
