BEGIN:VCALENDAR
VERSION:2.0
PRODID:-//Library Market//iCal Export//EN
BEGIN:VEVENT
SUMMARY:Bouncing Baby Storytime
UID:14558
DTSTAMP:20260423T015900Z
DTSTART:20251014T180000Z
DTEND:20251014T183000Z
LOCATION:Byron Public Library District, 100 S Washington St., Byron, IL 61
 010, United States
ROOM: Activity Room
DESCRIPTION:Introduce your baby to library time with bounces, rhymes &amp;
  songs just for babies! This program is for infants-crawlers, with caregiv
 er.  Register infant-crawler only.For safety of babies: 1. Walkers should
  sign up for Toddler Explore &amp; More 2. Older siblings may attend if th
 ey can sit (bring a doll or stuffed animal for them to emulate our songs &
 amp; rhymes with their own &quot;baby&quot;). Please contact Julie with an
 y questions. 
URL:https://www.byronlibrary.org/event/bouncing-baby-storytime-14558
END:VEVENT
END:VCALENDAR
