BEGIN:VCALENDAR
VERSION:2.0
PRODID:-//Library Market//iCal Export//EN
BEGIN:VEVENT
SUMMARY:Sharpie Art
UID:14560
DTSTAMP:20260423T002000Z
DTSTART:20251112T214500Z
DTEND:20251112T223000Z
LOCATION:Byron Public Library District, 100 S Washington St., Byron, IL 61
 010, United States
ROOM: Activity Room
DESCRIPTION:Create art with sharpies!!Youth attend alone. If your child ne
 eds extra support, please contact Julie.
URL:https://www.byronlibrary.org/event/sharpie-art-14560
END:VEVENT
END:VCALENDAR
