BEGIN:VCALENDAR
VERSION:2.0
PRODID:-//Library Market//iCal Export//EN
BEGIN:VEVENT
SUMMARY:Volunteens- Decorate Mini-Pumpkins
UID:14562
DTSTAMP:20260423T015900Z
DTSTART:20251006T230000Z
DTEND:20251007T000000Z
LOCATION:Byron Public Library District, 100 S Washington St., Byron, IL 61
 010, United States
ROOM: Meeting Room
DESCRIPTION:Earn volunteer credit by decorating mini-pumpkins to be used a
 s decorations for the library! 
URL:https://www.byronlibrary.org/event/volunteens-decorate-mini-pumpkins-1
 4562
END:VEVENT
END:VCALENDAR
