BEGIN:VCALENDAR
VERSION:2.0
PRODID:-//Library Market//iCal Export//EN
BEGIN:VEVENT
SUMMARY:Teen Book Box
UID:14563
DTSTAMP:20260423T015900Z
DTSTART:20251001T050000Z
DTEND:20251001T050000Z
LOCATION:Byron Public Library District, 100 S Washington St., Byron, IL 61
 010, United States
ROOM: Teen Book Box
DESCRIPTION:Sign up for a Book Box! This is a quarterly program, in which 
 teens can sign up to receive a box filled with two books, crafts and treat
 s. The books will be checked out to your library card, and you need to ret
 urn the two books and box to the library when done reading, but you get to
  keep everything else in the box! When you register, let us know if you ar
 e in middle school or high school so appropriate books can be selected for
  you. This box will be SCARY READS themed.  Everyone&#039;s box will be s
 lightly different, but all will be packed with awesomeness
URL:https://www.byronlibrary.org/event/teen-book-box-14563
END:VEVENT
END:VCALENDAR
