BEGIN:VCALENDAR
VERSION:2.0
PRODID:-//Library Market//iCal Export//EN
BEGIN:VEVENT
SUMMARY:Penguin Party
UID:14600
DTSTAMP:20260422T210100Z
DTSTART:20260128T000000Z
DTEND:20260128T004500Z
LOCATION:Byron Public Library District, 100 S Washington St., Byron, IL 61
 010, United States
ROOM: Activity Room &amp; Meeting Room
DESCRIPTION:Join us for penguin-themed art &amp; activity stations through
  out the youth department. 
URL:https://www.byronlibrary.org/event/penguin-party-14600
END:VEVENT
END:VCALENDAR
