BEGIN:VCALENDAR
VERSION:2.0
PRODID:-//Library Market//iCal Export//EN
BEGIN:VEVENT
SUMMARY:Sweet Treats Art Kit
UID:14601
DTSTAMP:20260422T194900Z
DTSTART:20260116T150000Z
DTEND:20260116T230000Z
LOCATION:Byron Public Library District, 100 S Washington St., Byron, IL 61
 010, United States
ROOM: Sweet Treats Art Kit
DESCRIPTION:For K-5th grade: Use cardboard, paint, beads, poms and more to
  create several cupcakes on canvas.
URL:https://www.byronlibrary.org/event/youth-take-home-kits-all-ages-14601
END:VEVENT
END:VCALENDAR
