BEGIN:VCALENDAR
VERSION:2.0
PRODID:-//Library Market//iCal Export//EN
BEGIN:VEVENT
SUMMARY:Merry Makers: Crafts, Wraps, &amp; Flicks
UID:14605
DTSTAMP:20260422T224900Z
DTSTART:20251218T170000Z
DTEND:20251219T010000Z
LOCATION:Byron Public Library District, 100 S Washington St., Byron, IL 61
 010, United States
ROOM: Creative Studio
DESCRIPTION:Get into the holiday spirit at the Byron Public Library! Join 
 us for a cozy day of creativity and cheer at Merry Makers: Crafts, Wraps, 
 &amp; Flicks on Thursday, December 18th from 11:00am-7:00pm. Make your own
  festive holiday card and ornament, wrap up your gifts in style, and relax
  with classic movies at our cocoa bar. All supplies and materials are prov
 ided - just bring your holiday spirit and gifts you need to wrap. This is 
 an adult program with no registration required! 
URL:https://www.byronlibrary.org/event/merry-makers-crafts-wraps-flicks-14
 605
END:VEVENT
END:VCALENDAR
