BEGIN:VCALENDAR
VERSION:2.0
PRODID:-//Library Market//iCal Export//EN
BEGIN:VEVENT
SUMMARY:Alien Spaceship Kit
UID:14609
DTSTAMP:20260422T164600Z
DTSTART:20260417T140000Z
DTEND:20260417T220000Z
LOCATION:Byron Public Library District, 100 S Washington St., Byron, IL 61
 010, United States
ROOM: Alien Spaceship Kit
DESCRIPTION:For K-5th: Create a clay alien &amp; a spaceship. Pick up your
  kit, beginning Friday, April 17.
URL:https://www.byronlibrary.org/event/youth-take-home-kits-all-ages-14609
END:VEVENT
END:VCALENDAR
