BEGIN:VCALENDAR
VERSION:2.0
PRODID:-//Library Market//iCal Export//EN
BEGIN:VEVENT
SUMMARY:Wicked Movie &amp; Crafts for Teens
UID:14612
DTSTAMP:20260423T015900Z
DTSTART:20251013T190000Z
DTEND:20251013T220000Z
LOCATION:Byron Public Library District, 100 S Washington St., Byron, IL 61
 010, United States
ROOM: Teen Department
DESCRIPTION:On your day off from school, enjoy the movie Wicked- Part I (2
  hours, 40 minutes, PG) and make some wickedly awesome crafts! 
URL:https://www.byronlibrary.org/event/wicked-movie-and-crafts-teens-14612
END:VEVENT
END:VCALENDAR
