BEGIN:VCALENDAR
VERSION:2.0
PRODID:-//Library Market//iCal Export//EN
BEGIN:VEVENT
SUMMARY:Dungeons &amp; Dragons for Teens
UID:14614
DTSTAMP:20260423T015900Z
DTSTART:20251008T203000Z
DTEND:20251008T220000Z
LOCATION:Byron Public Library District, 100 S Washington St., Byron, IL 61
 010, United States
ROOM: Classroom 2
DESCRIPTION:Join our weekly after-school D&amp;D group, which is open to n
 ew and experienced players! The two Dungeon Masters alternate weeks, so it
  would be best to pick one D&amp;D campaign and come every other week, so 
 you stay with one DM and epic journey! Adam-  10/1, 10/15, 10/29Jacob- 1
 0/8, 10/22
URL:https://www.byronlibrary.org/event/dungeons-dragons-teens-14614
END:VEVENT
END:VCALENDAR
