BEGIN:VCALENDAR
VERSION:2.0
PRODID:-//Library Market//iCal Export//EN
BEGIN:VEVENT
SUMMARY:Sewing - Hanging Holiday Towel
UID:14630
DTSTAMP:20260423T001900Z
DTSTART:20251105T233000Z
DTEND:20251106T010000Z
LOCATION:Byron Public Library District, 100 S Washington St., Byron, IL 61
 010, United States
ROOM: Creative Studio
DESCRIPTION:Get into the festive spirit with this hands-on sewing workshop
 ! Join us at the library to create your own hanging holiday towel - a fun 
 and practical decoration perfect for your kitchen or as a handmade gift. A
 ll materials supplied. Regardless of sewing experience, enrollment in this
  class requires successful completion of the Beginner Sewing Class at Byro
 n Public Library.
URL:https://www.byronlibrary.org/event/sewing-hanging-holiday-towel-14630
END:VEVENT
END:VCALENDAR
