BEGIN:VCALENDAR
VERSION:2.0
PRODID:-//Library Market//iCal Export//EN
BEGIN:VEVENT
SUMMARY:Wednesday Night Readers
UID:14638
DTSTAMP:20260423T001900Z
DTSTART:20251120T003000Z
DTEND:20251120T013000Z
LOCATION:Byron Public Library District, 100 S Washington St., Byron, IL 61
 010, United States
ROOM: Classroom 1
DESCRIPTION:July 1962. A Mi&#039;kmaq family from Nova Scotia arrives in M
 aine to pick blueberries for the summer. Weeks later, four-year-old Ruthie
 , the family&#039;s youngest child, vanishes. She is last seen by her six-
 year-old brother, Joe, sitting on a favorite rock at the edge of a berry f
 ield. Joe will remain distraught by his sister&#039;s disappearance for ye
 ars to come. In Maine, a young girl named Norma grows up as the only chil
 d of an affluent family. Her father is emotionally distant, her mother fru
 stratingly overprotective. Norma is often troubled by recurring dreams and
  visions that seem more like memories than imagination. As she grows older
 , Norma slowly comes to realize there is something her parents aren&#039;t
  telling her. Unwilling to abandon her intuition, she will spend decades t
 rying to uncover this family secret. For readers of The Vanishing Half an
 d Woman of Light, this showstopping debut by a vibrant new voice in fictio
 n is a riveting novel about the search for truth, the shadow of trauma, an
 d the persistence of love across time. Books are available for check-out 
 at the library. 
URL:https://www.byronlibrary.org/event/wednesday-night-readers-14638
END:VEVENT
END:VCALENDAR
