BEGIN:VCALENDAR
VERSION:2.0
PRODID:-//Library Market//iCal Export//EN
BEGIN:VEVENT
SUMMARY:Winter Wonderland Terrarium Kit
UID:14647
DTSTAMP:20260423T001900Z
DTSTART:20251212T150000Z
DTEND:20251212T230000Z
LOCATION:Byron Public Library District, 100 S Washington St., Byron, IL 61
 010, United States
ROOM: Winter Wonderland Terrarium Kit
DESCRIPTION:Add some warm and cozy vibes to your winter decor with this Wi
 nter Wonderland Terrarium kit! You&#039;ll create a glowing winter wonderl
 and inside an apothecary jar with supplies included in this DIY on the Fly
  Kit! No registration required. First come, first served. While supplies l
 ast!
URL:https://www.byronlibrary.org/event/winter-wonderland-terrarium-kit-146
 47
END:VEVENT
END:VCALENDAR
