BEGIN:VCALENDAR
VERSION:2.0
PRODID:-//Library Market//iCal Export//EN
BEGIN:VEVENT
SUMMARY:Birch Tree Painting Kit (String Pull Technique)
UID:14648
DTSTAMP:20260422T210100Z
DTSTART:20260109T150000Z
DTEND:20260109T230000Z
LOCATION:Byron Public Library District, 100 S Washington St., Byron, IL 61
 010, United States
ROOM: Birch Tree Painting Kit (String Pull Technique)
DESCRIPTION:Birch trees are a symbol of renewal, new beginnings and protec
 tion so let&#039;s kick the new year off with these thoughts in mind! Crea
 te a beautiful, one-of-a-kind art piece to cherish for years to come! This
  is a great project for beginners and experts alike! Supplies and photo tu
 torial included. No registration. First come, first served. While supplies
  last. 
URL:https://www.byronlibrary.org/event/birch-tree-painting-kit-string-pull
 -technique-14648
END:VEVENT
END:VCALENDAR
