BEGIN:VCALENDAR
VERSION:2.0
PRODID:-//Library Market//iCal Export//EN
BEGIN:VEVENT
SUMMARY:Grow Your Own Microgreens
UID:15173
DTSTAMP:20260422T194900Z
DTSTART:20260113T190000Z
DTEND:20260113T200000Z
LOCATION:Byron Public Library District, 100 S Washington St., Byron, IL 61
 010, United States
ROOM: Meeting Room
DESCRIPTION:Join Ogle County Health Department Grant Coordinator Joyce Lew
 is, for a hands-on growing microgreens program. Learn what microgreens are
 , how to use them, and the nutritional benefits of consuming them. Each pa
 rticipant will receive their own kit to grow microgreens at home!  
URL:https://www.byronlibrary.org/event/microgreen-program-christine-15173
END:VEVENT
END:VCALENDAR
