BEGIN:VCALENDAR
VERSION:2.0
PRODID:-//Library Market//iCal Export//EN
BEGIN:VEVENT
SUMMARY:Volunteens- Paracord Lanyards
UID:15308
DTSTAMP:20260423T002000Z
DTSTART:20251104T000000Z
DTEND:20251104T010000Z
LOCATION:Byron Public Library District, 100 S Washington St., Byron, IL 61
 010, United States
ROOM: Meeting Room
DESCRIPTION:Earn volunteer credit by making paracord lanyards to benefit U
 S soldiers through Operation Gratitude! 
URL:https://www.byronlibrary.org/event/volunteens-paracord-laynards-15308
END:VEVENT
END:VCALENDAR
