BEGIN:VCALENDAR
VERSION:2.0
PRODID:-//Library Market//iCal Export//EN
BEGIN:VEVENT
SUMMARY:Grab &amp; Go Kit for Teens
UID:15309
DTSTAMP:20260423T001900Z
DTSTART:20251111T060000Z
DTEND:20251111T060000Z
LOCATION:Byron Public Library District, 100 S Washington St., Byron, IL 61
 010, United States
ROOM: Grab &amp; Go Kit for Teens
DESCRIPTION:Teens can drop in and pick up a leaf jar candle kit to take ho
 me and make. No registration is necessary. 
URL:https://www.byronlibrary.org/event/grab-go-kit-teens-15309
END:VEVENT
END:VCALENDAR
