BEGIN:VCALENDAR
VERSION:2.0
PRODID:-//Library Market//iCal Export//EN
BEGIN:VEVENT
SUMMARY:Winter Crafts for Teens
UID:15310
DTSTAMP:20260423T002000Z
DTSTART:20251121T000000Z
DTEND:20251121T010000Z
LOCATION:Byron Public Library District, 100 S Washington St., Byron, IL 61
 010, United States
ROOM: Teen Department &amp; Creative Studio
DESCRIPTION:Go station to station, creating several different winter-theme
 d crafts. Plus, we will have a hot chocolate station! 
URL:https://www.byronlibrary.org/event/winter-crafts-teens-15310
END:VEVENT
END:VCALENDAR
