BEGIN:VCALENDAR
VERSION:2.0
PRODID:-//Library Market//iCal Export//EN
BEGIN:VEVENT
SUMMARY:Dungeons &amp; Dragons for Teens
UID:15315
DTSTAMP:20260423T002000Z
DTSTART:20251112T213000Z
DTEND:20251112T230000Z
LOCATION:Byron Public Library District, 100 S Washington St., Byron, IL 61
 010, United States
ROOM: Classroom 2
DESCRIPTION:Join our weekly after-school D&amp;D group, which is open to n
 ew and experienced players! Jacob 11/5, 11/19, 12/10Adam-  11/12, 12/3
URL:https://www.byronlibrary.org/event/dungeons-dragons-teens-15315
END:VEVENT
END:VCALENDAR
