BEGIN:VCALENDAR
VERSION:2.0
PRODID:-//Library Market//iCal Export//EN
BEGIN:VEVENT
SUMMARY:Grab &amp; Go Kit for Teens
UID:15317
DTSTAMP:20260423T002000Z
DTSTART:20251028T050000Z
DTEND:20251028T050000Z
LOCATION:Byron Public Library District, 100 S Washington St., Byron, IL 61
 010, United States
ROOM: Grab &amp; Go Kit for Teens
DESCRIPTION:Teens can drop in and pick up a Rice Krispie Mummy kit. No reg
 istration is necessary. 
URL:https://www.byronlibrary.org/event/grab-go-teens-15317
END:VEVENT
END:VCALENDAR
