BEGIN:VCALENDAR
VERSION:2.0
PRODID:-//Library Market//iCal Export//EN
BEGIN:VEVENT
SUMMARY:Dino Craft Kit
UID:15321
DTSTAMP:20260423T001900Z
DTSTART:20251107T150000Z
DTEND:20251107T230000Z
LOCATION:Byron Public Library District, 100 S Washington St., Byron, IL 61
 010, United States
ROOM: Dino Craft Kit
DESCRIPTION:For 3 years-K : Create some fun dinosaurs and then play with t
 hem!
URL:https://www.byronlibrary.org/event/dino-craft-kit-15321
END:VEVENT
END:VCALENDAR
