BEGIN:VCALENDAR
VERSION:2.0
PRODID:-//Library Market//iCal Export//EN
BEGIN:VEVENT
SUMMARY:Busy Bag Kit
UID:15322
DTSTAMP:20260423T002000Z
DTSTART:20251107T150000Z
DTEND:20251107T230000Z
LOCATION:Byron Public Library District, 100 S Washington St., Byron, IL 61
 010, United States
ROOM: Busy Bag Kit
DESCRIPTION:For 18-35 months : A fun play activity for home or on the go!
URL:https://www.byronlibrary.org/event/busy-bag-kit-15322
END:VEVENT
END:VCALENDAR
