BEGIN:VCALENDAR
VERSION:2.0
PRODID:-//Library Market//iCal Export//EN
BEGIN:VEVENT
SUMMARY:Toddler Explore &amp; More
UID:15324
DTSTAMP:20260423T002000Z
DTSTART:20251104T163000Z
DTEND:20251104T170000Z
LOCATION:Byron Public Library District, 100 S Washington St., Byron, IL 61
 010, United States
ROOM: Activity Room
DESCRIPTION:Join us for a short book, songs &amp; rhymes, followed by sens
 ory explorations and hands on learning stations. This program is designed 
 for walkers-35 months, with a caregiver.  Register your child only; your 
 child must be walking-35 months to register for this program. Younger or o
 lder siblings may accompany caregiver and child but do not need to registe
 r. Please contact Julie with any questions. 
URL:https://www.byronlibrary.org/event/toddler-explore-more-15324
END:VEVENT
END:VCALENDAR
