BEGIN:VCALENDAR
VERSION:2.0
PRODID:-//Library Market//iCal Export//EN
BEGIN:VEVENT
SUMMARY:Handmade Journal - Butterfly Stitch
UID:15345
DTSTAMP:20260423T002000Z
DTSTART:20251203T233000Z
DTEND:20251204T013000Z
LOCATION:Byron Public Library District, 100 S Washington St., Byron, IL 61
 010, United States
ROOM: Creative Studio
DESCRIPTION:This program teaches participants how to create a personalized
  handmade journal by binding pages together with the decorative butterfly 
 stitch. Participants will learn how to prepare signatures, punch binding h
 oles, and stitch the pages using the butterfly stitch technique. The progr
 am includes customizing the cover, adding decorative elements, and finishi
 ng the journal with unique touches. By the end, participants will have a b
 eautifully crafted journal ready for use or gifting. 
URL:https://www.byronlibrary.org/event/handmade-journal-butterfly-stitch-1
 5345
END:VEVENT
END:VCALENDAR
