BEGIN:VCALENDAR
VERSION:2.0
PRODID:-//Library Market//iCal Export//EN
BEGIN:VEVENT
SUMMARY:Friday Trivia
UID:15347
DTSTAMP:20260423T001900Z
DTSTART:20251205T160000Z
DTEND:20251205T173000Z
LOCATION:Byron Public Library District, 100 S Washington St., Byron, IL 61
 010, United States
ROOM: Meeting Room
DESCRIPTION:
URL:https://www.byronlibrary.org/event/friday-trivia-15347
END:VEVENT
END:VCALENDAR
