BEGIN:VCALENDAR
VERSION:2.0
PRODID:-//Library Market//iCal Export//EN
BEGIN:VEVENT
SUMMARY:Shaker Cards
UID:15351
DTSTAMP:20260422T194900Z
DTSTART:20260112T183000Z
DTEND:20260112T203000Z
LOCATION:Byron Public Library District, 100 S Washington St., Byron, IL 61
 010, United States
ROOM: Creative Studio
DESCRIPTION:In this program, you will learn how to make three different ki
 nds of shaker cards: a window shaker, a traditional foam shaker, and an en
 velope shaker. Your recipients will love the interactive nature of these c
 ards! 
URL:https://www.byronlibrary.org/event/shaker-cards-15351
END:VEVENT
END:VCALENDAR
