BEGIN:VCALENDAR
VERSION:2.0
PRODID:-//Library Market//iCal Export//EN
BEGIN:VEVENT
SUMMARY:Crystal Snowflake Kit
UID:15773
DTSTAMP:20260423T000300Z
DTSTART:20251205T150000Z
DTEND:20251205T230000Z
LOCATION:Byron Public Library District, 100 S Washington St., Byron, IL 61
 010, United States
ROOM: Crystal Snowflake Kit
DESCRIPTION:For 1st-5th graders : Science meets art when you create snowfl
 akes out of chenille stems and then grow crystals on them!
URL:https://www.byronlibrary.org/event/crystal-snowflake-kit-15773
END:VEVENT
END:VCALENDAR
