BEGIN:VCALENDAR
VERSION:2.0
PRODID:-//Library Market//iCal Export//EN
BEGIN:VEVENT
SUMMARY:Click with Caution: Avoiding Online Scams
UID:15810
DTSTAMP:20260422T194900Z
DTSTART:20260212T200000Z
DTEND:20260212T210000Z
LOCATION:Byron Public Library District, 100 S Washington St., Byron, IL 61
 010, United States
ROOM: Meeting Room
DESCRIPTION:Congratulations, you just won a free cruise! Or did you? Join 
 cyber security expert Jeff Williams as he teaches you about common online 
 scams and how to protect yourself from falling victim to them. 
URL:https://www.byronlibrary.org/event/avoiding-online-scams-program-chris
 tine-15810
END:VEVENT
END:VCALENDAR
