BEGIN:VCALENDAR
VERSION:2.0
PRODID:-//Library Market//iCal Export//EN
BEGIN:VEVENT
SUMMARY:Melting Snowman Art Kit
UID:15909
DTSTAMP:20260422T234900Z
DTSTART:20251205T150000Z
DTEND:20251205T230000Z
LOCATION:Byron Public Library District, 100 S Washington St., Byron, IL 61
 010, United States
ROOM: Melting Snowman Art Kit
DESCRIPTION:For 3 years-K: Create a puffy paint melting snowman!
URL:https://www.byronlibrary.org/event/melting-snowman-art-kit-15909
END:VEVENT
END:VCALENDAR
