BEGIN:VCALENDAR
VERSION:2.0
PRODID:-//Library Market//iCal Export//EN
BEGIN:VEVENT
SUMMARY:Toddler Winter Wonder Art Kit
UID:15912
DTSTAMP:20260423T002000Z
DTSTART:20251205T150000Z
DTEND:20251205T230000Z
LOCATION:Byron Public Library District, 100 S Washington St., Byron, IL 61
 010, United States
ROOM: Toddler Winter Wonder Art Kit
DESCRIPTION:For 18-35 months : A winter art project just right for toddler
 s.
URL:https://www.byronlibrary.org/event/toddler-winter-wonder-art-kit-15912
END:VEVENT
END:VCALENDAR
