BEGIN:VCALENDAR
VERSION:2.0
PRODID:-//Library Market//iCal Export//EN
BEGIN:VEVENT
SUMMARY:Music of Four Centuries
UID:15919
DTSTAMP:20260422T181700Z
DTSTART:20260326T223000Z
DTEND:20260327T000000Z
LOCATION:Byron Public Library District, 100 S Washington St., Byron, IL 61
 010, United States
ROOM: Meeting Room
DESCRIPTION:American Classical Guitarist Peter Fletcher made his formal de
 but at age 15 under the auspices of The Brasstown Concert Association in N
 orth Carolina. He studied at Eastman School of Music and made his Carnegie
  Hall Debut in 2007. Peter released his 10th CD, entitled Peter Fletcher i
 n Concert, on February 18th of this year and tours annually coast to coast
 . Peter is based in Detroit and New York City. His recordings on the Centa
 ur Records and Towerhill Recordings labels have been critically acclaimed.
  Peter offers an audience friendly solo recital including repertoire that 
 runs the gamut from the Renaissance Period through the 20th Century. 
URL:https://www.byronlibrary.org/event/classical-guitarist-peter-fletcher-
 christine-15919
END:VEVENT
END:VCALENDAR
