BEGIN:VCALENDAR
VERSION:2.0
PRODID:-//Library Market//iCal Export//EN
BEGIN:VEVENT
SUMMARY:Unicorn Magic Storytime
UID:15932
DTSTAMP:20260422T163000Z
DTSTART:20260421T230000Z
DTEND:20260421T234500Z
LOCATION:Byron Public Library District, 100 S Washington St., Byron, IL 61
 010, United States
ROOM: Activity Room &amp; Meeting Room
DESCRIPTION:Join us for unicorn themed art &amp; activities in the youth d
 epartment! 
URL:https://www.byronlibrary.org/event/family-program-15932
END:VEVENT
END:VCALENDAR
