BEGIN:VCALENDAR
VERSION:2.0
PRODID:-//Library Market//iCal Export//EN
BEGIN:VEVENT
SUMMARY:Volunteens- Cards for Hospitalized Kids
UID:15936
DTSTAMP:20260422T224900Z
DTSTART:20251203T000000Z
DTEND:20251203T010000Z
LOCATION:Byron Public Library District, 100 S Washington St., Byron, IL 61
 010, United States
ROOM: Teen Department
DESCRIPTION:Earn volunteer credit by decorating holiday cards for sick chi
 ldren through the organization Cards for Hospitalized Kids. 
URL:https://www.byronlibrary.org/event/volunteens-cards-hospitalized-kids-
 15936
END:VEVENT
END:VCALENDAR
