BEGIN:VCALENDAR
VERSION:2.0
PRODID:-//Library Market//iCal Export//EN
BEGIN:VEVENT
SUMMARY:Chess Horizons
UID:15946
DTSTAMP:20260422T224900Z
DTSTART:20251202T233000Z
DTEND:20251203T010000Z
LOCATION:Byron Public Library District, 100 S Washington St., Byron, IL 61
 010, United States
ROOM: Classroom 2
DESCRIPTION:Come play chess with enthusiasts of all skill levels.  An exp
 erienced chess player is available to coach your gameplay upon request.Thi
 s program is open to teens (middle school &amp; high school students) and 
 adults.
URL:https://www.byronlibrary.org/event/chess-horizons-15946
END:VEVENT
END:VCALENDAR
