BEGIN:VCALENDAR
VERSION:2.0
PRODID:-//Library Market//iCal Export//EN
BEGIN:VEVENT
SUMMARY:Movie Matinee for Teens
UID:15947
DTSTAMP:20260422T224900Z
DTSTART:20251222T190000Z
DTEND:20251222T210000Z
LOCATION:Byron Public Library District, 100 S Washington St., Byron, IL 61
 010, United States
ROOM: Teen Department
DESCRIPTION:Join us to watch the animated movie The Nightmare Before Chris
 tmas (PG) and to decorate cookies! 
URL:https://www.byronlibrary.org/event/movie-matinee-teens-15947
END:VEVENT
END:VCALENDAR
