BEGIN:VCALENDAR
VERSION:2.0
PRODID:-//Library Market//iCal Export//EN
BEGIN:VEVENT
SUMMARY:Gingerbread House Contest for Teens
UID:15948
DTSTAMP:20260423T001900Z
DTSTART:20251212T000000Z
DTEND:20251212T013000Z
LOCATION:Byron Public Library District, 100 S Washington St., Byron, IL 61
 010, United States
ROOM: Teen Department &amp; Creative Studio
DESCRIPTION:Create an amazing gingerbread house on December 11th! They wil
 l then be displayed at the library for one week, allowing patrons to vote 
 on their favorite. Who will earn bragging rights this year (and an Amazon 
 gift card)?
URL:https://www.byronlibrary.org/event/gingerbread-house-contest-teens-159
 48
END:VEVENT
END:VCALENDAR
