BEGIN:VCALENDAR
VERSION:2.0
PRODID:-//Library Market//iCal Export//EN
BEGIN:VEVENT
SUMMARY:Dungeons &amp; Dragons for Teens
UID:15949
DTSTAMP:20260423T001900Z
DTSTART:20251203T213000Z
DTEND:20251203T230000Z
LOCATION:Byron Public Library District, 100 S Washington St., Byron, IL 61
 010, United States
ROOM: Classroom 2
DESCRIPTION:Join our weekly after-school D&amp;D group, which is open to n
 ew and experienced players! On hiatus during winter break, will resume on
  Wednesday, January 14th.  
URL:https://www.byronlibrary.org/event/dungeons-dragons-teens-15949
END:VEVENT
END:VCALENDAR
