BEGIN:VCALENDAR
VERSION:2.0
PRODID:-//Library Market//iCal Export//EN
BEGIN:VEVENT
SUMMARY:Do Art Comic Book Workshop for Teens
UID:15951
DTSTAMP:20260422T210900Z
DTSTART:20260105T200000Z
DTEND:20260105T210000Z
LOCATION:Byron Public Library District, 100 S Washington St., Byron, IL 61
 010, United States
ROOM: Creative Studio
DESCRIPTION:Enjoy your last day of winter break by joining the Do Art Prod
 uctions team for a Comic Book Workshop! Learn how to create fun illustrati
 ons in this engaging art program with a professional artist. 
URL:https://www.byronlibrary.org/event/do-art-comic-book-workshop-teens-15
 951
END:VEVENT
END:VCALENDAR
