BEGIN:VCALENDAR
VERSION:2.0
PRODID:-//Library Market//iCal Export//EN
BEGIN:VEVENT
SUMMARY:Bouncing Baby Storytime
UID:15977
DTSTAMP:20260423T001600Z
DTSTART:20251202T190000Z
DTEND:20251202T193000Z
LOCATION:Byron Public Library District, 100 S Washington St., Byron, IL 61
 010, United States
ROOM: Activity Room
DESCRIPTION:Introduce your baby to library time with bounces, rhymes &amp;
  songs just for babies! This program is for infants-crawlers, with caregiv
 er.  Register infant-crawler only.For safety of babies: Older siblings ma
 y attend if they can sit (bring a doll or stuffed animal for them to emula
 te our songs &amp; rhymes with their own &quot;baby&quot;). Please contact
  Julie with any questions. 
URL:https://www.byronlibrary.org/event/bouncing-baby-storytime-15977
END:VEVENT
END:VCALENDAR
