BEGIN:VCALENDAR
VERSION:2.0
PRODID:-//Library Market//iCal Export//EN
BEGIN:VEVENT
SUMMARY:Toddler Explore &amp; More
UID:15993
DTSTAMP:20260423T000800Z
DTSTART:20251206T160000Z
DTEND:20251206T163000Z
LOCATION:Byron Public Library District, 100 S Washington St., Byron, IL 61
 010, United States
ROOM: Activity Room
DESCRIPTION:Join us for a short book, songs &amp; rhymes, followed by sens
 ory explorations and hands on learning stations. This program is designed 
 for walkers-35 months, with a caregiver.  Register your child only; your 
 child should be walking-35 months to register for this program. Younger or
  older siblings may accompany caregiver and child but do not need to regis
 ter. Please contact Julie with any questions. 
URL:https://www.byronlibrary.org/event/toddler-explore-more-15993
END:VEVENT
END:VCALENDAR
