BEGIN:VCALENDAR
VERSION:2.0
PRODID:-//Library Market//iCal Export//EN
BEGIN:VEVENT
SUMMARY:Sewing - Bowl Cozy
UID:16236
DTSTAMP:20260422T194900Z
DTSTART:20260213T160000Z
DTEND:20260213T173000Z
LOCATION:Byron Public Library District, 100 S Washington St., Byron, IL 61
 010, United States
ROOM: Creative Studio
DESCRIPTION:Join us for a fun, hands-on sewing workshop where you&#039;ll 
 learn how to make a cozy fabric holder for your favorite bowls. Perfect fo
 r protecting your hands from hot or cold dishes, these reversible bowl coz
 ies are practical, stylish, and make great gifts! All materials and equipm
 ent will be provided. If you have taken our beginner sewing class or have 
 experience sewing on a machine, you are welcome to join. 
URL:https://www.byronlibrary.org/event/sewing-bowl-cozy-16236
END:VEVENT
END:VCALENDAR
