BEGIN:VCALENDAR
VERSION:2.0
PRODID:-//Library Market//iCal Export//EN
BEGIN:VEVENT
SUMMARY:Wheel of Fortune
UID:16237
DTSTAMP:20260422T194900Z
DTSTART:20260130T160000Z
DTEND:20260130T170000Z
LOCATION:Byron Public Library District, 100 S Washington St., Byron, IL 61
 010, United States
ROOM: Classroom 1
DESCRIPTION:Come spin the wheel for some morning fun at the library as we 
 play the Byron Library&#039;s rendition of the game Wheel of Fortune. Coff
 ee will be on! 
URL:https://www.byronlibrary.org/event/wheel-fortune-16237
END:VEVENT
END:VCALENDAR
