BEGIN:VCALENDAR
VERSION:2.0
PRODID:-//Library Market//iCal Export//EN
BEGIN:VEVENT
SUMMARY:Wednesday Night Readers
UID:16240
DTSTAMP:20260422T210900Z
DTSTART:20260122T003000Z
DTEND:20260122T013000Z
LOCATION:Byron Public Library District, 100 S Washington St., Byron, IL 61
 010, United States
ROOM: Classroom 1
DESCRIPTION:1975 is a time of change in America. The Vietnam War is ending
 . Muhammed Ali is fighting Joe Frazier. And in the small town of Monta Cla
 re, Missouri, girls are disappearing. When the daughter of a wealthy fami
 ly is targeted, the most unlikely hero emerges - Patch, a local boy, who s
 aves the girl, and, in doing so, leaves heartache in his wake.Patch and th
 ose who love him soon discover that the line between triumph and tragedy h
 as never been finer. And that their search for answers will lead them to t
 ruths that could mean losing one another. A missing person mystery, a ser
 ial killer, a love story, a unique twist on each, Chris Whitaker has writt
 en a novel about what lurks in the shadows of obsession and the blinding l
 ight of hope. 
URL:https://www.byronlibrary.org/event/wednesday-night-readers-16240
END:VEVENT
END:VCALENDAR
