BEGIN:VCALENDAR
VERSION:2.0
PRODID:-//Library Market//iCal Export//EN
BEGIN:VEVENT
SUMMARY:Winter Challenge
UID:16243
DTSTAMP:20260422T210000Z
DTSTART:20251215T060000Z
DTEND:20260215T060000Z
LOCATION:Byron Public Library District, 100 S Washington St., Byron, IL 61
 010, United States
ROOM: Winter Challenge
DESCRIPTION:The Winter Challenge is open to all ages! Register on Beanstac
 k or with the Beanstack app, beginning Dec. 15. Join anytime during the da
 tes of the challenge!Youth Baby-Grade 1: Listen to 16 books to complete a 
 book badge and earn an entry in the prize drawing. Keep listening to addit
 ional entries in the prize drawings. Complete activity badges to earn entr
 ies too. Select your free book after completing either a book badge or an 
 activity badge. Youth Grades 2-5: Read 4 books to complete a book badge a
 nd earn an entry in the prize drawing. Keep reading to earn more entries i
 n the prize drawings. Complete activity badges to earn entries too.  Sele
 ct your free book after completing either a book badge or an activity badg
 e. Teens: Read 4 books to complete a book badge and earn an entry in the 
 prize drawing. Attend teen programs to earn additional entries in the priz
 e drawing.  Select your free book after completing your first book badge.
 Adults: Read 4 books to complete a book badge and earn an entry in the pri
 ze drawing. Keep reading for more entries in the prize drawing. Select you
 r free book after completing your first book badge. 
URL:https://www.byronlibrary.org/event/winter-challenge-16243
END:VEVENT
END:VCALENDAR
